BEGIN:VCALENDAR
VERSION:2.0
CALSCALE:GREGORIAN
PRODID:adamgibbons/ics
METHOD:PUBLISH
X-PUBLISHED-TTL:PT1H
BEGIN:VEVENT
UID:158@bootblack.events
SUMMARY:Leather Social
DTSTAMP:20260424T130946Z
DTSTART:20260502T173000Z
DESCRIPTION:The Leather Social takes place every first Saturday of the mont
	h at The Lodge\n(upstairs of Eagle Bar Manchester). For members\, but newb
	ies and the curious\nmost welcome. Bootblacking stands available ran our t
	alented bootblacks during\nthe social.
URL:https://bootblack.events/event/leather-social-15
GEO:53.4776882;-2.2368676
LOCATION:The Eagle\, Manchester - 15 Bloom St\, Manchester M1 3HZ
STATUS:CONFIRMED
CATEGORIES:UK,Bootblack Stand,Manchester
X-ALT-DESC;FMTTYPE=text/html:<p>The Leather Social takes place every first 
	Saturday of the month at The Lodge (upstairs of Eagle Bar Manchester). For
	 members, but newbies and the curious most welcome. Bootblacking stands av
	ailable ran our talented bootblacks during the social. </p>
END:VEVENT
BEGIN:VEVENT
UID:151@bootblack.events
SUMMARY:Leather Social
DTSTAMP:20260424T130946Z
DTSTART:20260404T173000Z
DESCRIPTION:The Leather Social takes place every first Saturday of the mont
	h at The Lodge\n(upstairs of Eagle Bar Manchester). For members\, but newb
	ies and the curious\nmost welcome. Bootblacking stands available ran our t
	alented bootblacks during\nthe social.
URL:https://bootblack.events/event/leather-social-14
GEO:53.4776882;-2.2368676
LOCATION:The Eagle\, Manchester - 15 Bloom St\, Manchester M1 3HZ
STATUS:CONFIRMED
CATEGORIES:UK,Manchester,Bootblack Stand
X-ALT-DESC;FMTTYPE=text/html:<p>The Leather Social takes place every first 
	Saturday of the month at The Lodge (upstairs of Eagle Bar Manchester). For
	 members, but newbies and the curious most welcome. Bootblacking stands av
	ailable ran our talented bootblacks during the social. </p>
END:VEVENT
BEGIN:VEVENT
UID:149@bootblack.events
SUMMARY:Leather Social
DTSTAMP:20260424T130946Z
DTSTART:20260307T183000Z
DESCRIPTION:The Leather Social takes place every first Saturday of the mont
	h at The Lodge\n(upstairs of Eagle Bar Manchester). For members\, but newb
	ies and the curious\nmost welcome. Bootblacking stands available ran our t
	alented bootblacks during\nthe social.
URL:https://bootblack.events/event/leather-social-13
GEO:53.4776882;-2.2368676
LOCATION:The Eagle\, Manchester - 15 Bloom St\, Manchester M1 3HZ
STATUS:CONFIRMED
CATEGORIES:UK,Manchester,Bootblack Stand
X-ALT-DESC;FMTTYPE=text/html:<p>The Leather Social takes place every first 
	Saturday of the month at The Lodge (upstairs of Eagle Bar Manchester). For
	 members, but newbies and the curious most welcome. Bootblacking stands av
	ailable ran our talented bootblacks during the social. </p>
END:VEVENT
BEGIN:VEVENT
UID:140@bootblack.events
SUMMARY:Leather Social
DTSTAMP:20260424T130946Z
DTSTART:20260207T183000Z
DESCRIPTION:The Leather Social takes place every first Saturday of the mont
	h at The Lodge\n(upstairs of Eagle Bar Manchester). For members\, but newb
	ies and the curious\nmost welcome. Bootblacking stands available ran our t
	alented bootblacks during\nthe social.
URL:https://bootblack.events/event/leather-social-12
GEO:53.4776882;-2.2368676
LOCATION:The Eagle\, Manchester - 15 Bloom St\, Manchester M1 3HZ
STATUS:CONFIRMED
CATEGORIES:Manchester,Bootblack Stand,UK
X-ALT-DESC;FMTTYPE=text/html:<p>The Leather Social takes place every first 
	Saturday of the month at The Lodge (upstairs of Eagle Bar Manchester). For
	 members, but newbies and the curious most welcome. Bootblacking stands av
	ailable ran our talented bootblacks during the social. </p>
END:VEVENT
BEGIN:VEVENT
UID:138@bootblack.events
SUMMARY:Leather Social
DTSTAMP:20260424T130946Z
DTSTART:20260103T183000Z
DESCRIPTION:The Leather Social takes place every first Saturday of the mont
	h at The Lodge\n(upstairs of Eagle Bar Manchester). For members\, but newb
	ies and the curious\nmost welcome. Bootblacking stands available ran our t
	alented bootblacks during\nthe social.
URL:https://bootblack.events/event/leather-social-11
GEO:53.4776882;-2.2368676
LOCATION:The Eagle\, Manchester - 15 Bloom St\, Manchester M1 3HZ
STATUS:CONFIRMED
CATEGORIES:UK,Manchester,Bootblack Stand
X-ALT-DESC;FMTTYPE=text/html:<p>The Leather Social takes place every first 
	Saturday of the month at The Lodge (upstairs of Eagle Bar Manchester). For
	 members, but newbies and the curious most welcome. Bootblacking stands av
	ailable ran our talented bootblacks during the social. </p>
END:VEVENT
BEGIN:VEVENT
UID:134@bootblack.events
SUMMARY:Leather Social
DTSTAMP:20260424T130946Z
DTSTART:20251206T183000Z
DESCRIPTION:The Leather Social takes place every first Saturday of the mont
	h at The Lodge\n(upstairs of Eagle Bar Manchester). For members\, but newb
	ies and the curious\nmost welcome. Bootblacking stands available ran our t
	alented bootblacks during\nthe social.
URL:https://bootblack.events/event/leather-social-10
GEO:53.4776882;-2.2368676
LOCATION:The Eagle\, Manchester - 15 Bloom St\, Manchester M1 3HZ
STATUS:CONFIRMED
CATEGORIES:UK,Manchester,Bootblack Stand
X-ALT-DESC;FMTTYPE=text/html:<p>The Leather Social takes place every first 
	Saturday of the month at The Lodge (upstairs of Eagle Bar Manchester). For
	 members, but newbies and the curious most welcome. Bootblacking stands av
	ailable ran our talented bootblacks during the social. </p>
END:VEVENT
BEGIN:VEVENT
UID:137@bootblack.events
SUMMARY:The UK Bootblack Contest 2025
DTSTAMP:20260424T130946Z
DTSTART:20251205T180000Z
DTEND:20251207T200000Z
DESCRIPTION:Full details and schedule at:\nhttps://www.getyourhandsdirty.co
	.uk/uk-bootblack-contest/ [https://]\n\n\n\nThe UK Bootblack Contest aims 
	to celebrate the technical expertise\, creativity\,\nand passion of bootbl
	acks in the UK. Whether you’re new to bootblacking or a\nseasoned pro\, th
	is contest offers an exciting opportunity to learn\, connect\, and\ngrow w
	ithin the community. This year we will be holding the public portions of\n
	the contest at Social Refuge and The Eagle Bar in Manchester. Come and sup
	port\nour fabulous contestants\, sit for them\, get your boots shined and 
	your leathers\ncared for\, socialise\, and have some fun!
URL:https://bootblack.events/event/the-uk-bootblack-contest-2025
GEO:53.4776882;-2.2368676
LOCATION:The Eagle\, Manchester - 15 Bloom St\, Manchester M1 3HZ
STATUS:CONFIRMED
CATEGORIES:Multiple Bootblacks,UK Bootblack Contest,Title Contest,UK Bootbl
	acks
X-ALT-DESC;FMTTYPE=text/html:<p>Full details and schedule at: <a target="_b
	lank" href="https://">https://www.getyourhandsdirty.co.uk/uk-bootblack-con
	test/</a></p><p></p><p>The UK Bootblack Contest aims to celebrate the tech
	nical expertise, creativity, and passion of bootblacks in the UK. Whether 
	you’re new to bootblacking or a seasoned pro, this contest offers an excit
	ing opportunity to learn, connect, and grow within the community. This yea
	r we will be holding the public portions of the contest at Social Refuge a
	nd The Eagle Bar in Manchester. Come and support our fabulous contestants,
	 sit for them, get your boots shined and your leathers cared for, socialis
	e, and have some fun! </p>
END:VEVENT
BEGIN:VEVENT
UID:130@bootblack.events
SUMMARY:Leather Social
DTSTAMP:20260424T130946Z
DTSTART:20251101T183000Z
DESCRIPTION:The Leather Social takes place every first Saturday of the mont
	h at The Lodge\n(upstairs of Eagle Bar Manchester). For members\, but newb
	ies and the curious\nmost welcome. Bootblacking stands available ran our t
	alented bootblacks during\nthe social.
URL:https://bootblack.events/event/leather-social-9
GEO:53.4776882;-2.2368676
LOCATION:The Eagle\, Manchester - 15 Bloom St\, Manchester M1 3HZ
STATUS:CONFIRMED
CATEGORIES:Manchester,Bootblack Stand,UK
X-ALT-DESC;FMTTYPE=text/html:<p>The Leather Social takes place every first 
	Saturday of the month at The Lodge (upstairs of Eagle Bar Manchester). For
	 members, but newbies and the curious most welcome. Bootblacking stands av
	ailable ran our talented bootblacks during the social. </p>
END:VEVENT
BEGIN:VEVENT
UID:128@bootblack.events
SUMMARY:Leather Social
DTSTAMP:20260424T130946Z
DTSTART:20251004T173000Z
DESCRIPTION:The Leather Social takes place every first Saturday of the mont
	h at The Lodge\n(upstairs of Eagle Bar Manchester). For members\, but newb
	ies and the curious\nmost welcome. Bootblacking stands available ran our t
	alented bootblacks during\nthe social.
URL:https://bootblack.events/event/leather-social-8
GEO:53.4776882;-2.2368676
LOCATION:The Eagle\, Manchester - 15 Bloom St\, Manchester M1 3HZ
STATUS:CONFIRMED
CATEGORIES:UK,Manchester,Bootblack Stand
X-ALT-DESC;FMTTYPE=text/html:<p>The Leather Social takes place every first 
	Saturday of the month at The Lodge (upstairs of Eagle Bar Manchester). For
	 members, but newbies and the curious most welcome. Bootblacking stands av
	ailable ran our talented bootblacks during the social. </p>
END:VEVENT
BEGIN:VEVENT
UID:122@bootblack.events
SUMMARY:Leather Social
DTSTAMP:20260424T130946Z
DTSTART:20250906T173000Z
DESCRIPTION:The Leather Social takes place every first Saturday of the mont
	h at The Lodge\n(upstairs of Eagle Bar Manchester). For members\, but newb
	ies and the curious\nmost welcome. Bootblacking stands available ran our t
	alented bootblacks during\nthe social.
URL:https://bootblack.events/event/leather-social-7
GEO:53.4776882;-2.2368676
LOCATION:The Eagle\, Manchester - 15 Bloom St\, Manchester M1 3HZ
STATUS:CONFIRMED
CATEGORIES:Bootblack Stand,Manchester,UK
X-ALT-DESC;FMTTYPE=text/html:<p>The Leather Social takes place every first 
	Saturday of the month at The Lodge (upstairs of Eagle Bar Manchester). For
	 members, but newbies and the curious most welcome. Bootblacking stands av
	ailable ran our talented bootblacks during the social. </p>
END:VEVENT
BEGIN:VEVENT
UID:120@bootblack.events
SUMMARY:Leather Social
DTSTAMP:20260424T130946Z
DTSTART:20250802T173000Z
DESCRIPTION:The Leather Social takes place every first Saturday of the mont
	h at The Lodge\n(upstairs of Eagle Bar Manchester). For members\, but newb
	ies and the curious\nmost welcome. Bootblacking stands available ran our t
	alented bootblacks during\nthe social.
URL:https://bootblack.events/event/leather-social-6
GEO:53.4776882;-2.2368676
LOCATION:The Eagle\, Manchester - 15 Bloom St\, Manchester M1 3HZ
STATUS:CONFIRMED
CATEGORIES:UK,Bootblack Stand,Manchester
X-ALT-DESC;FMTTYPE=text/html:<p>The Leather Social takes place every first 
	Saturday of the month at The Lodge (upstairs of Eagle Bar Manchester). For
	 members, but newbies and the curious most welcome. Bootblacking stands av
	ailable ran our talented bootblacks during the social. </p>
END:VEVENT
BEGIN:VEVENT
UID:114@bootblack.events
SUMMARY:Leather Social
DTSTAMP:20260424T130946Z
DTSTART:20250705T173000Z
DESCRIPTION:The Leather Social takes place every first Saturday of the mont
	h at The Lodge\n(upstairs of Eagle Bar Manchester). For members\, but newb
	ies and the curious\nmost welcome. Bootblacking stands available ran our t
	alented bootblacks during\nthe social.
URL:https://bootblack.events/event/leather-social-5
GEO:53.4776882;-2.2368676
LOCATION:The Eagle\, Manchester - 15 Bloom St\, Manchester M1 3HZ
STATUS:CONFIRMED
CATEGORIES:Manchester,UK,Bootblack Stand
X-ALT-DESC;FMTTYPE=text/html:<p>The Leather Social takes place every first 
	Saturday of the month at The Lodge (upstairs of Eagle Bar Manchester). For
	 members, but newbies and the curious most welcome. Bootblacking stands av
	ailable ran our talented bootblacks during the social. </p>
END:VEVENT
BEGIN:VEVENT
UID:104@bootblack.events
SUMMARY:Leather Social
DTSTAMP:20260424T130946Z
DTSTART:20250607T173000Z
DESCRIPTION:The Leather Social takes place every first Saturday of the mont
	h at The Lodge\n(upstairs of Eagle Bar Manchester). For members\, but newb
	ies and the curious\nmost welcome. Bootblacking stands available ran our t
	alented bootblacks during\nthe social.
URL:https://bootblack.events/event/leather-social-4
GEO:53.4776882;-2.2368676
LOCATION:The Eagle\, Manchester - 15 Bloom St\, Manchester M1 3HZ
STATUS:CONFIRMED
CATEGORIES:Manchester,Bootblack Stand,UK
X-ALT-DESC;FMTTYPE=text/html:<p>The Leather Social takes place every first 
	Saturday of the month at The Lodge (upstairs of Eagle Bar Manchester). For
	 members, but newbies and the curious most welcome. Bootblacking stands av
	ailable ran our talented bootblacks during the social. </p>
END:VEVENT
BEGIN:VEVENT
UID:94@bootblack.events
SUMMARY:Leather Social
DTSTAMP:20260424T130946Z
DTSTART:20250503T173000Z
DESCRIPTION:The Leather Social takes place every first Saturday of the mont
	h at The Lodge\n(upstairs of Eagle Bar Manchester). For members\, but newb
	ies and the curious\nmost welcome. Bootblacking stands available ran our t
	alented bootblacks during\nthe social.
URL:https://bootblack.events/event/leather-social-3
GEO:53.4776882;-2.2368676
LOCATION:The Eagle\, Manchester - 15 Bloom St\, Manchester M1 3HZ
STATUS:CONFIRMED
CATEGORIES:Bootblack Stand,UK,Manchester
X-ALT-DESC;FMTTYPE=text/html:<p>The Leather Social takes place every first 
	Saturday of the month at The Lodge (upstairs of Eagle Bar Manchester). For
	 members, but newbies and the curious most welcome. Bootblacking stands av
	ailable ran our talented bootblacks during the social. </p>
END:VEVENT
BEGIN:VEVENT
UID:80@bootblack.events
SUMMARY:Leather Social
DTSTAMP:20260424T130946Z
DTSTART:20250405T173000Z
DESCRIPTION:The Leather Social takes place every first Saturday of the mont
	h at The Lodge\n(upstairs of Eagle Bar Manchester). For members\, but newb
	ies and the curious\nmost welcome. Bootblacking stands available ran our t
	alented bootblacks during\nthe social.
URL:https://bootblack.events/event/leather-social-2
GEO:53.4776882;-2.2368676
LOCATION:The Eagle\, Manchester - 15 Bloom St\, Manchester M1 3HZ
STATUS:CONFIRMED
CATEGORIES:Bootblack Stand,UK,Manchester
X-ALT-DESC;FMTTYPE=text/html:<p>The Leather Social takes place every first 
	Saturday of the month at The Lodge (upstairs of Eagle Bar Manchester). For
	 members, but newbies and the curious most welcome. Bootblacking stands av
	ailable ran our talented bootblacks during the social. </p>
END:VEVENT
BEGIN:VEVENT
UID:55@bootblack.events
SUMMARY:Leather Social
DTSTAMP:20260424T130946Z
DTSTART:20250301T183000Z
DESCRIPTION:The Leather Social takes place every first Saturday of the mont
	h at The Lodge\n(upstairs of Eagle Bar Manchester). For members\, but newb
	ies and the curious\nmost welcome. Bootblacking stands available ran our t
	alented bootblacks during\nthe social.
URL:https://bootblack.events/event/leather-social-1
GEO:53.4776882;-2.2368676
LOCATION:The Eagle\, Manchester - 15 Bloom St\, Manchester M1 3HZ
STATUS:CONFIRMED
CATEGORIES:Bootblack Stand,Manchester,UK
X-ALT-DESC;FMTTYPE=text/html:<p>The Leather Social takes place every first 
	Saturday of the month at The Lodge (upstairs of Eagle Bar Manchester). For
	 members, but newbies and the curious most welcome. Bootblacking stands av
	ailable ran our talented bootblacks during the social. </p>
END:VEVENT
BEGIN:VEVENT
UID:53@bootblack.events
SUMMARY:Bootblacking @ Manchester Leather Social
DTSTAMP:20260424T130946Z
DTSTART:20250201T183000Z
DESCRIPTION:Bootblack stand at the Manchester Leather Social. More info:\nh
	ttps://www.manchesterleathermen.com/events\n[https://www.manchesterleather
	men.com/events]
URL:https://bootblack.events/event/bootblacking-manchester-leather-social-5
GEO:53.4776882;-2.2368676
LOCATION:The Eagle\, Manchester - 15 Bloom St\, Manchester M1 3HZ
STATUS:CONFIRMED
CATEGORIES:Bootblack Stand,Manchester,UK
X-ALT-DESC;FMTTYPE=text/html:<p>Bootblack stand at the Manchester Leather S
	ocial. More info: <a target="_blank" href="https://www.manchesterleatherme
	n.com/events">https://www.manchesterleathermen.com/events</a></p>
END:VEVENT
BEGIN:VEVENT
UID:47@bootblack.events
SUMMARY:Bootblacking @ Manchester Leather Social
DTSTAMP:20260424T130946Z
DTSTART:20250104T183000Z
DESCRIPTION:Bootblack stand at the Manchester Leather Social. More info:\nh
	ttps://www.manchesterleathermen.com/events\n[https://www.manchesterleather
	men.com/events]
URL:https://bootblack.events/event/bootblacking-manchester-leather-social-4
GEO:53.4776882;-2.2368676
LOCATION:The Eagle\, Manchester - 15 Bloom St\, Manchester M1 3HZ
STATUS:CONFIRMED
CATEGORIES:Manchester,UK,Bootblack Stand
X-ALT-DESC;FMTTYPE=text/html:<p>Bootblack stand at the Manchester Leather S
	ocial. More info: <a target="_blank" href="https://www.manchesterleatherme
	n.com/events">https://www.manchesterleathermen.com/events</a></p>
END:VEVENT
BEGIN:VEVENT
UID:39@bootblack.events
SUMMARY:Bootblacking @ Manchester Leather Social
DTSTAMP:20260424T130946Z
DTSTART:20241207T183000Z
DESCRIPTION:Bootblack stand at the Manchester Leather Social. More info:\nh
	ttps://www.manchesterleathermen.com/events\n[https://www.manchesterleather
	men.com/events]
URL:https://bootblack.events/event/bootblacking-manchester-leather-social-3
GEO:53.4776882;-2.2368676
LOCATION:The Eagle\, Manchester - 15 Bloom St\, Manchester M1 3HZ
STATUS:CONFIRMED
CATEGORIES:Manchester,UK,Bootblack Stand
X-ALT-DESC;FMTTYPE=text/html:<p>Bootblack stand at the Manchester Leather S
	ocial. More info: <a target="_blank" href="https://www.manchesterleatherme
	n.com/events">https://www.manchesterleathermen.com/events</a></p>
END:VEVENT
BEGIN:VEVENT
UID:38@bootblack.events
SUMMARY:Bootblacking @ Manchester Leather Social
DTSTAMP:20260424T130946Z
DTSTART:20241102T183000Z
DESCRIPTION:Bootblack stand at the Manchester Leather Social. More info:\nh
	ttps://www.manchesterleathermen.com/events\n[https://www.manchesterleather
	men.com/events]
URL:https://bootblack.events/event/bootblacking-manchester-leather-social-2
GEO:53.4776882;-2.2368676
LOCATION:The Eagle\, Manchester - 15 Bloom St\, Manchester M1 3HZ
STATUS:CONFIRMED
CATEGORIES:Manchester,UK,Bootblack Stand
X-ALT-DESC;FMTTYPE=text/html:<p>Bootblack stand at the Manchester Leather S
	ocial. More info: <a target="_blank" href="https://www.manchesterleatherme
	n.com/events">https://www.manchesterleathermen.com/events</a></p>
END:VEVENT
BEGIN:VEVENT
UID:13@bootblack.events
SUMMARY:Manchester Leather Weekend
DTSTAMP:20260424T130946Z
DTSTART:20241003T220000Z
DTEND:20241005T220000Z
DESCRIPTION:Weekend Event Listing: https://www.manchesterleathermen.com/wee
	kend/\n[https://www.manchesterleathermen.com/weekend/]\n\n\n\nAll Bootblac
	ks welcome\, two official bootblacking stands (Friday and Saturday\nnight)
	 but plenty of times when stands may be negotiated with event organisers.\
	n\nWe will be organising a little Bootblack Brunch on Sunday for anyone in
	terested.\n\nFeel free to add yourself to the schedule\, further info on t
	he link:\n\nhttps://docs.google.com/spreadsheets/d/1qZOXkcRQdIw71NdcnSaINP
	qblbVkFRImB1Yy-nF5hNY/edit?usp=sharing\n[https://docs.google.com/spreadshe
	ets/d/1qZOXkcRQdIw71NdcnSaINPqblbVkFRImB1Yy-nF5hNY/edit?usp=sharing]
URL:https://bootblack.events/event/manchester-leather-weekend
GEO:53.4776882;-2.2368676
LOCATION:The Eagle\, Manchester - 15 Bloom St\, Manchester M1 3HZ
STATUS:CONFIRMED
CATEGORIES:Bootblack Stand,MLM,UK Bootblacks,UK,Manchester
X-ALT-DESC;FMTTYPE=text/html:<p>Weekend Event Listing: <a target="_blank" h
	ref="https://www.manchesterleathermen.com/weekend/">https://www.manchester
	leathermen.com/weekend/</a></p><p></p><p>All Bootblacks welcome, two offic
	ial bootblacking stands (Friday and Saturday night) but plenty of times wh
	en stands may be negotiated with event organisers. </p><p>We will be organ
	ising a little Bootblack Brunch on Sunday for anyone interested. </p><p>Fe
	el free to add yourself to the schedule, further info on the link:</p><p><
	a target="_blank" href="https://docs.google.com/spreadsheets/d/1qZOXkcRQdI
	w71NdcnSaINPqblbVkFRImB1Yy-nF5hNY/edit?usp=sharing">https://docs.google.co
	m/spreadsheets/d/1qZOXkcRQdIw71NdcnSaINPqblbVkFRImB1Yy-nF5hNY/edit?usp=sha
	ring</a></p>
END:VEVENT
BEGIN:VEVENT
UID:19@bootblack.events
SUMMARY:Bootblacking @ Manchester Leather Social
DTSTAMP:20260424T130946Z
DTSTART:20240907T173000Z
DESCRIPTION:Bootblack stand at the Manchester Leather Social. More about th
	e event at:\nhttps://www.manchesterleathermen.com/events\n[https://www.man
	chesterleathermen.com/events]
URL:https://bootblack.events/event/bootblacking-manchester-leather-social
GEO:53.4776882;-2.2368676
LOCATION:The Eagle\, Manchester - 15 Bloom St\, Manchester M1 3HZ
STATUS:CONFIRMED
CATEGORIES:Manchester,Bootblack Stand,UK
X-ALT-DESC;FMTTYPE=text/html:<p>Bootblack stand at the Manchester Leather S
	ocial. More about the event at: <a target="_blank" href="https://www.manch
	esterleathermen.com/events">https://www.manchesterleathermen.com/events</a
	></p>
END:VEVENT
END:VCALENDAR
